BEGIN:VCALENDAR
VERSION:2.0
PRODID:-//Roslyn Home and School - ECPv6.15.20//NONSGML v1.0//EN
CALSCALE:GREGORIAN
METHOD:PUBLISH
X-WR-CALNAME:Roslyn Home and School
X-ORIGINAL-URL:https://roslynhands.ca
X-WR-CALDESC:Events for Roslyn Home and School
REFRESH-INTERVAL;VALUE=DURATION:PT1H
X-Robots-Tag:noindex
X-PUBLISHED-TTL:PT1H
BEGIN:VTIMEZONE
TZID:America/Toronto
BEGIN:DAYLIGHT
TZOFFSETFROM:-0500
TZOFFSETTO:-0400
TZNAME:EDT
DTSTART:20210314T070000
END:DAYLIGHT
BEGIN:STANDARD
TZOFFSETFROM:-0400
TZOFFSETTO:-0500
TZNAME:EST
DTSTART:20211107T060000
END:STANDARD
BEGIN:DAYLIGHT
TZOFFSETFROM:-0500
TZOFFSETTO:-0400
TZNAME:EDT
DTSTART:20220313T070000
END:DAYLIGHT
BEGIN:STANDARD
TZOFFSETFROM:-0400
TZOFFSETTO:-0500
TZNAME:EST
DTSTART:20221106T060000
END:STANDARD
BEGIN:DAYLIGHT
TZOFFSETFROM:-0500
TZOFFSETTO:-0400
TZNAME:EDT
DTSTART:20230312T070000
END:DAYLIGHT
BEGIN:STANDARD
TZOFFSETFROM:-0400
TZOFFSETTO:-0500
TZNAME:EST
DTSTART:20231105T060000
END:STANDARD
END:VTIMEZONE
BEGIN:VEVENT
DTSTART;TZID=America/Toronto:20221017T155000
DTEND;TZID=America/Toronto:20221017T165000
DTSTAMP:20260419T115422
CREATED:20220905T231045Z
LAST-MODIFIED:20230305T004332Z
UID:10000416-1666021800-1666025400@roslynhands.ca
SUMMARY:Soccer - Gr 1-3
DESCRIPTION:AFTER SCHOOL PICK UP PROTOCOL\n\n\n\n\n\n\nMONDAYS – AFTER SCHOOL\n\n\n\nSoccer is not just for the outdoors anymore. Indoor soccer is becoming as popular as the outdoor game. Work on skills\, strategy\, and scrimmages to fine tune your soccer game. Games\, skills\, and drills will all be part of the fun. \n\n\n\n20 students \n\n\n\n\n\n\n\nInstructor: Mr. M.\n\n\n\n\n\n\n\nMUST READ: Homework Assistance Program\n\n\n\nWe are pleased to announce the return of the “Homework Assistance Program” offered to children enrolled in the after-school SPORTS activities ONLY (Soccer\, Hockey/Lacrosse\, Martial Arts\, and Basketball) on the day(s) for which they are registered (Mon-Thurs). \n\n\n\nThis will allow you to keep your younger children (grades 1-3) in after school supervision once their activity ends. We however require that ALL children who are enrolled in sports programs be picked up by 6:00.
URL:https://roslynhands.ca/event/soccer-gr-1-3/2022-10-17/
LOCATION:Main Gym
CATEGORIES:20-week session,After-School,Extracurricular Activities,Grade 1,Grade 2,Grade 3
ATTACH;FMTTYPE=image/jpeg:https://roslynhands.ca/wp-content/uploads/sites/9/2021/06/Soccer.jpg
END:VEVENT
BEGIN:VEVENT
DTSTART;TZID=America/Toronto:20221017T165500
DTEND;TZID=America/Toronto:20221017T175500
DTSTAMP:20260419T115422
CREATED:20220906T203528Z
LAST-MODIFIED:20230305T004415Z
UID:10001003-1666025700-1666029300@roslynhands.ca
SUMMARY:Soccer - Gr 4-6
DESCRIPTION:AFTER SCHOOL PICK UP PROTOCOL\n\n\n\n\n\n\nMONDAYS – AFTER SCHOOL\n\n\n\nSoccer is not just for the outdoors anymore. Indoor soccer is becoming as popular as the outdoor game. Work on skills\, strategy\, and scrimmages to fine tune your soccer game. Games\, skills\, and drills will all be part of the fun. \n\n\n\n20 students \n\n\n\n\n\n\n\nInstructor: Mr. M.\n\n\n\n\n\n\n\nMUST READ: Homework Assistance Program\n\n\n\nWe are pleased to announce the return of the “Homework Assistance Program” offered to children enrolled in the after-school SPORTS activities ONLY (Soccer\, Hockey/Lacrosse\, Martial Arts\, and Basketball) on the day(s) for which they are registered (Mon-Thurs). \n\n\n\nThis will allow you to keep your children (grades 4-6) in after school supervision BEFORE their activity begins. We require that ALL children who are enrolled in sports programs be picked up by 6:00.
URL:https://roslynhands.ca/event/soccer-gr-4-6/2022-10-17/
LOCATION:Main Gym
CATEGORIES:20-week session,After-School,Extracurricular Activities,Grade 4,Grade 5,Grade 6
ATTACH;FMTTYPE=image/jpeg:https://roslynhands.ca/wp-content/uploads/sites/9/2021/06/Soccer.jpg
END:VEVENT
END:VCALENDAR