BEGIN:VCALENDAR
VERSION:2.0
PRODID:-//Roslyn Home and School - ECPv6.15.20//NONSGML v1.0//EN
CALSCALE:GREGORIAN
METHOD:PUBLISH
X-WR-CALNAME:Roslyn Home and School
X-ORIGINAL-URL:https://roslynhands.ca
X-WR-CALDESC:Events for Roslyn Home and School
REFRESH-INTERVAL;VALUE=DURATION:PT1H
X-Robots-Tag:noindex
X-PUBLISHED-TTL:PT1H
BEGIN:VTIMEZONE
TZID:America/Toronto
BEGIN:DAYLIGHT
TZOFFSETFROM:-0500
TZOFFSETTO:-0400
TZNAME:EDT
DTSTART:20220313T070000
END:DAYLIGHT
BEGIN:STANDARD
TZOFFSETFROM:-0400
TZOFFSETTO:-0500
TZNAME:EST
DTSTART:20221106T060000
END:STANDARD
BEGIN:DAYLIGHT
TZOFFSETFROM:-0500
TZOFFSETTO:-0400
TZNAME:EDT
DTSTART:20230312T070000
END:DAYLIGHT
BEGIN:STANDARD
TZOFFSETFROM:-0400
TZOFFSETTO:-0500
TZNAME:EST
DTSTART:20231105T060000
END:STANDARD
BEGIN:DAYLIGHT
TZOFFSETFROM:-0500
TZOFFSETTO:-0400
TZNAME:EDT
DTSTART:20240310T070000
END:DAYLIGHT
BEGIN:STANDARD
TZOFFSETFROM:-0400
TZOFFSETTO:-0500
TZNAME:EST
DTSTART:20241103T060000
END:STANDARD
END:VTIMEZONE
BEGIN:VEVENT
DTSTART;TZID=America/Toronto:20230322T123500
DTEND;TZID=America/Toronto:20230322T132500
DTSTAMP:20260423T202035
CREATED:20220906T181046Z
LAST-MODIFIED:20230112T053024Z
UID:10000702-1679488500-1679491500@roslynhands.ca
SUMMARY:Modern Dance - Gr 3-6 - WINTER
DESCRIPTION:The register button will only work after 7:00am Tues.\, Oct. 4th. \n\n\n\n\n\n\n\n\nREGISTER\n\n\n\n\n\n\n\nWEDNESDAYS – LUNCH – WINTER\n\n\n\nA great class that offers a mix of modern\, Hip Hop and other dance styles that kids love. The emphasis is on fun and creative expression. A small performance will be given in celebration of the group’s work at the end of the session. \n\n\n\n20 students \n\n\n\n\n\n\n\nInstructor: Dale King
URL:https://roslynhands.ca/event/modern-dance-gr-3-6-winter/2023-03-22/
LOCATION:Room – 001
CATEGORIES:Extracurricular Activities,Grade 4,Grade 5,Grade 6,Lunch,Winter
ATTACH;FMTTYPE=image/jpeg:https://roslynhands.ca/wp-content/uploads/sites/9/2021/06/Modern-Dance..jpg
END:VEVENT
BEGIN:VEVENT
DTSTART;TZID=America/Toronto:20230322T123500
DTEND;TZID=America/Toronto:20230322T132500
DTSTAMP:20260423T202035
CREATED:20220906T184421Z
LAST-MODIFIED:20221008T224412Z
UID:10000798-1679488500-1679491500@roslynhands.ca
SUMMARY:Spanish - Gr 3-6
DESCRIPTION:The register button will only work after 7:00am Tues.\, Oct. 4th. \n\n\n\n\n\n\n\n\nREGISTER\n\n\n\n\n\n\n\nWEDNESDAYS – LUNCH\n\n\n\nLearning languages is fun. Kids will start with the basics and progress through fun games and exercises. Materials provided. \n\n\n\nBeginner class. \n\n\n\n16 students \n\n\n\n\n\n\n\nInstructor: Sara Moreno
URL:https://roslynhands.ca/event/spanish-gr-3-6/2023-03-22/
LOCATION:Apt. Art Room
CATEGORIES:20-week session,Extracurricular Activities,Grade 3,Grade 4,Grade 5,Grade 6,Lunch
ATTACH;FMTTYPE=image/jpeg:https://roslynhands.ca/wp-content/uploads/sites/9/2021/06/Spanish.jpg
END:VEVENT
END:VCALENDAR