BEGIN:VCALENDAR
VERSION:2.0
PRODID:-//Roslyn Home and School - ECPv6.15.20//NONSGML v1.0//EN
CALSCALE:GREGORIAN
METHOD:PUBLISH
X-ORIGINAL-URL:https://roslynhands.ca
X-WR-CALDESC:Events for Roslyn Home and School
REFRESH-INTERVAL;VALUE=DURATION:PT1H
X-Robots-Tag:noindex
X-PUBLISHED-TTL:PT1H
BEGIN:VTIMEZONE
TZID:America/Toronto
BEGIN:DAYLIGHT
TZOFFSETFROM:-0500
TZOFFSETTO:-0400
TZNAME:EDT
DTSTART:20230312T070000
END:DAYLIGHT
BEGIN:STANDARD
TZOFFSETFROM:-0400
TZOFFSETTO:-0500
TZNAME:EST
DTSTART:20231105T060000
END:STANDARD
BEGIN:DAYLIGHT
TZOFFSETFROM:-0500
TZOFFSETTO:-0400
TZNAME:EDT
DTSTART:20240310T070000
END:DAYLIGHT
BEGIN:STANDARD
TZOFFSETFROM:-0400
TZOFFSETTO:-0500
TZNAME:EST
DTSTART:20241103T060000
END:STANDARD
BEGIN:DAYLIGHT
TZOFFSETFROM:-0500
TZOFFSETTO:-0400
TZNAME:EDT
DTSTART:20250309T070000
END:DAYLIGHT
BEGIN:STANDARD
TZOFFSETFROM:-0400
TZOFFSETTO:-0500
TZNAME:EST
DTSTART:20251102T060000
END:STANDARD
END:VTIMEZONE
BEGIN:VEVENT
DTSTART;TZID=America/Toronto:20240510T123500
DTEND;TZID=America/Toronto:20240510T132500
DTSTAMP:20260421T020219
CREATED:20230902T015556Z
LAST-MODIFIED:20240123T234819Z
UID:10004034-1715344500-1715347500@roslynhands.ca
SUMMARY:Photography - Gr 3-6
DESCRIPTION:The register button will only work after 7:00am Thurs.\, Sep. 7th \n\n\n\n\n\n\n\n\nREGISTER\n\n\n\n\n\n\n\nFRIDAYS – LUNCH\n\n\n\nInspire your child’s creativity!  This hands-on course will teach students how to take great photographs as well as how to edit and manipulate the images on a computer! \n\n\n\nTopics will include Macro work – close up photography\, simple rules of composition\, lighting and black and white photography\, portraiture – how to take great photographs of people\, how to manipulate and correct images. \n\n\n\n20 students \n\n\n\n\n\n\n\nInstructor: Kim (Co-Op Collective Vision)
URL:https://roslynhands.ca/event/photography-gr-3-6-2/2024-05-10/
LOCATION:Science Lab
CATEGORIES:20-week session,Extracurricular Activities,Grade 3,Grade 4,Grade 5,Grade 6,Lunch
ATTACH;FMTTYPE=image/jpeg:https://roslynhands.ca/wp-content/uploads/sites/9/2021/06/Photography.jpg
END:VEVENT
END:VCALENDAR