BEGIN:VCALENDAR
VERSION:2.0
PRODID:-//Roslyn Home and School - ECPv6.15.20//NONSGML v1.0//EN
CALSCALE:GREGORIAN
METHOD:PUBLISH
X-ORIGINAL-URL:https://roslynhands.ca
X-WR-CALDESC:Events for Roslyn Home and School
REFRESH-INTERVAL;VALUE=DURATION:PT1H
X-Robots-Tag:noindex
X-PUBLISHED-TTL:PT1H
BEGIN:VTIMEZONE
TZID:America/Toronto
BEGIN:DAYLIGHT
TZOFFSETFROM:-0500
TZOFFSETTO:-0400
TZNAME:EDT
DTSTART:20230312T070000
END:DAYLIGHT
BEGIN:STANDARD
TZOFFSETFROM:-0400
TZOFFSETTO:-0500
TZNAME:EST
DTSTART:20231105T060000
END:STANDARD
BEGIN:DAYLIGHT
TZOFFSETFROM:-0500
TZOFFSETTO:-0400
TZNAME:EDT
DTSTART:20240310T070000
END:DAYLIGHT
BEGIN:STANDARD
TZOFFSETFROM:-0400
TZOFFSETTO:-0500
TZNAME:EST
DTSTART:20241103T060000
END:STANDARD
BEGIN:DAYLIGHT
TZOFFSETFROM:-0500
TZOFFSETTO:-0400
TZNAME:EDT
DTSTART:20250309T070000
END:DAYLIGHT
BEGIN:STANDARD
TZOFFSETFROM:-0400
TZOFFSETTO:-0500
TZNAME:EST
DTSTART:20251102T060000
END:STANDARD
END:VTIMEZONE
BEGIN:VEVENT
DTSTART;TZID=America/Toronto:20240312T154500
DTEND;TZID=America/Toronto:20240312T170000
DTSTAMP:20260425T100311
CREATED:20240220T224555Z
LAST-MODIFIED:20240220T224711Z
UID:10004082-1710258300-1710262800@roslynhands.ca
SUMMARY:Ballet – Gr 1-3 – SPRING 2024
DESCRIPTION:AFTER SCHOOL PICK UP PROTOCOL\n\n\n\n\n\n\nTUESDAYS – AFTER SCHOOL\n\n\n\n11 students (extension – open to currently enrolled students ONLY) \n\n\n\n\n\n\n\nInstructor: Sabrika
URL:https://roslynhands.ca/event/ballet-gr-1-3-spring-2024/2024-03-12/
LOCATION:Mini Gym
CATEGORIES:After-School,Extracurricular Activities,Grade 1,Grade 2,Grade 3,Spring
ATTACH;FMTTYPE=image/jpeg:https://roslynhands.ca/wp-content/uploads/sites/9/2023/06/ballet-activity.jpg
END:VEVENT
BEGIN:VEVENT
DTSTART;TZID=America/Toronto:20240312T154500
DTEND;TZID=America/Toronto:20240312T170000
DTSTAMP:20260425T100311
CREATED:20240220T231526Z
LAST-MODIFIED:20240320T181649Z
UID:10004107-1710258300-1710262800@roslynhands.ca
SUMMARY:Piano – Gr 1-6 – SPRING 2024
DESCRIPTION:AFTER SCHOOL PICK UP PROTOCOL\n\n\n\n\n\n\nTUESDAYS – AFTER SCHOOL\n\n\n\nThis class will offer students an introduction to piano. Students will be learning basic skills\, reading music\, playing as a group\, and practicing proper technique in a fun environment. In general\, the course will stress creativity\, while offering a strong musical foundation and wide exposure to piano. \n\n\n\n11 students (extension – open to currently enrolled students ONLY) \n\n\n\n\n\n\n\nInstructor: Corine
URL:https://roslynhands.ca/event/piano-gr-1-2-spring-2024/2024-03-12/
LOCATION:Library
CATEGORIES:After-School,Extracurricular Activities,Grade 1,Grade 2,Grade 3,Grade 4,Grade 5,Grade 6,Spring
ATTACH;FMTTYPE=image/jpeg:https://roslynhands.ca/wp-content/uploads/sites/9/2023/06/intro-to-piano-activity.jpg
END:VEVENT
BEGIN:VEVENT
DTSTART;TZID=America/Toronto:20240312T154500
DTEND;TZID=America/Toronto:20240312T173000
DTSTAMP:20260425T100311
CREATED:20230612T222255Z
LAST-MODIFIED:20230925T155216Z
UID:10002077-1710258300-1710264600@roslynhands.ca
SUMMARY:Garden Club – Gr 3-6 – 2023-24
DESCRIPTION:AFTER SCHOOL PICK UP PROTOCOL\n\n\n\n\n\n\nTUESDAYS – AFTER SCHOOL\n\n\n\nThis class will run in two sessions from September – November (10 weeks) and from March – May (10 weeks) \n\n\n\nBe a green thumb and make the world a more beautiful place. Children will work individually and in a group setting; students will have a little gardening 101. They will beautifully decorate & name their plants; they will plant & learn about how to maintain a small garden in their own homes. Herbs to spice things up\, Flowers to beatify\, and edible treasures from their very own garden.  (*Most materials are included). \n\n\n\nNote: Participants are asked to provide their own apron or old shirt. \n\n\n\n16 students \n\n\n\n\n\n\n\nInstructor: Sue Brotherwood\n\n\n\n\n\n\n\nMUST READ: After School Supervision Program\n\n\n\nWe are very pleased to announce that this year (2023-24)\, after school supervision will be offered to ALL children enrolled in the after school activities program on the day(s) for which they are registered. This service is provided by the Trevor Williams Kids foundation (TWKF) and is included in the registration fees.
URL:https://roslynhands.ca/event/garden-club-gr-3-6-2023-24/2024-03-12/
LOCATION:Apt. Back Room
CATEGORIES:20-week session,After-School,Extracurricular Activities,Fall,Grade 3,Grade 4,Grade 5,Grade 6,Spring
ATTACH;FMTTYPE=image/jpeg:https://roslynhands.ca/wp-content/uploads/sites/9/2022/10/garden-works.jpg
END:VEVENT
BEGIN:VEVENT
DTSTART;TZID=America/Toronto:20240313T154500
DTEND;TZID=America/Toronto:20240313T170000
DTSTAMP:20260425T100311
CREATED:20240222T001525Z
LAST-MODIFIED:20240222T001526Z
UID:10004194-1710344700-1710349200@roslynhands.ca
SUMMARY:Dance and Motion – Gr 1-3 – SPRING 2024
DESCRIPTION:AFTER SCHOOL PICK UP PROTOCOL\n\n\n\n\n\n\nWEDNESDAYS – AFTER SCHOOL\n\n\n\nIncorporating ballet\, dance\, and movement\, this class will get your child moving and exercising through fun games. \n\n\n\n11 students (extension – open to currently enrolled students ONLY) \n\n\n\n\n\n\n\nInstructor: Ruth
URL:https://roslynhands.ca/event/dance-and-motion-gr-1-3-spring-2024/2024-03-13/
LOCATION:Mini Gym
CATEGORIES:After-School,Extracurricular Activities,Grade 1,Grade 2,Grade 3,Spring
ATTACH;FMTTYPE=image/jpeg:https://roslynhands.ca/wp-content/uploads/sites/9/2023/03/dance-and-motion.jpg
END:VEVENT
BEGIN:VEVENT
DTSTART;TZID=America/Toronto:20240313T155500
DTEND;TZID=America/Toronto:20240313T165500
DTSTAMP:20260425T100311
CREATED:20240220T233707Z
LAST-MODIFIED:20240220T235140Z
UID:10004122-1710345300-1710348900@roslynhands.ca
SUMMARY:Martial Arts - Gr 1-3 - SPRING 2024
DESCRIPTION:AFTER SCHOOL PICK UP PROTOCOL\n\n\n\n\n\n\nWEDNESDAYS – AFTER SCHOOL\n\n\n\nDojo Studio facilitator\, Sensei Andrew Watson will provide workshops of different types of martial arts such as (karate\, kickboxing\, and self-defence) which will facilitate individual goals in health and wellness. This will be accomplished by increasing knowledge and skills for all those participating using the highest standards and in an environment of learning whilst encouraging respect for each other. \n\n\n\n27 students (extension – open to currently enrolled students ONLY) \n\n\n\n\n\n\n\nInstructor: Andrew Watson (Dojo Studio)
URL:https://roslynhands.ca/event/martial-arts-gr-1-3-spring-2024/2024-03-13/
LOCATION:Main Gym
CATEGORIES:After-School,Extracurricular Activities,Grade 1,Grade 2,Grade 3,Spring
ATTACH;FMTTYPE=image/jpeg:https://roslynhands.ca/wp-content/uploads/sites/9/2023/03/Martial-Arts.jpg
END:VEVENT
BEGIN:VEVENT
DTSTART;TZID=America/Toronto:20240313T165500
DTEND;TZID=America/Toronto:20240313T175500
DTSTAMP:20260425T100311
CREATED:20240220T233914Z
LAST-MODIFIED:20240220T235031Z
UID:10004132-1710348900-1710352500@roslynhands.ca
SUMMARY:Martial Arts - Gr 4-6 - SPRING 2024
DESCRIPTION:AFTER SCHOOL PICK UP PROTOCOL\n\n\n\n\n\n\nWEDNESDAYS – AFTER SCHOOL\n\n\n\nDojo Studio facilitator\, Sensei Andrew Watson will provide workshops of different types of martial arts such as (karate\, kickboxing\, and self-defence) which will facilitate individual goals in health and wellness. This will be accomplished by increasing knowledge and skills for all those participating using the highest standards and in an environment of learning whilst encouraging respect for each other. \n\n\n\n7 students (extension – open to currently enrolled students ONLY) \n\n\n\n\n\n\n\nInstructor: Andrew Watson (Dojo Studio)
URL:https://roslynhands.ca/event/martial-arts-gr-4-6-spring-2024/2024-03-13/
LOCATION:Main Gym
CATEGORIES:After-School,Extracurricular Activities,Grade 4,Grade 5,Grade 6,Spring
ATTACH;FMTTYPE=image/jpeg:https://roslynhands.ca/wp-content/uploads/sites/9/2023/03/Martial-Arts.jpg
END:VEVENT
BEGIN:VEVENT
DTSTART;TZID=America/Toronto:20240314T154500
DTEND;TZID=America/Toronto:20240314T170000
DTSTAMP:20260425T100311
CREATED:20240222T003248Z
LAST-MODIFIED:20240227T201812Z
UID:10004260-1710431100-1710435600@roslynhands.ca
SUMMARY:Science Exploration – Gr 1-2 – SPRING 2024
DESCRIPTION:AFTER SCHOOL PICK UP PROTOCOL\n\n\n\n\n\n\nTHURSDAYS – AFTER SCHOOL\n\n\n\nExplore the world of science through hands on experiments. Building solar systems\, erupting volcanoes\, and making slime are just a few of the fun projects in this course. \n\n\n\n18 students (extension – open to currently enrolled students ONLY) \n\n\n\n\n\n\n\nInstructor: Ruth Wani
URL:https://roslynhands.ca/event/science-exploration-gr-1-2-spring-2024/2024-03-14/
LOCATION:Science Lab
CATEGORIES:After-School,Extracurricular Activities,Grade 1,Grade 2,Spring
ATTACH;FMTTYPE=image/jpeg:https://roslynhands.ca/wp-content/uploads/sites/9/2023/06/science-exploration-activity.jpg
END:VEVENT
END:VCALENDAR