BEGIN:VCALENDAR
VERSION:2.0
PRODID:-//Roslyn Home and School - ECPv6.15.20//NONSGML v1.0//EN
CALSCALE:GREGORIAN
METHOD:PUBLISH
X-WR-CALNAME:Roslyn Home and School
X-ORIGINAL-URL:https://roslynhands.ca
X-WR-CALDESC:Events for Roslyn Home and School
REFRESH-INTERVAL;VALUE=DURATION:PT1H
X-Robots-Tag:noindex
X-PUBLISHED-TTL:PT1H
BEGIN:VTIMEZONE
TZID:America/Toronto
BEGIN:DAYLIGHT
TZOFFSETFROM:-0500
TZOFFSETTO:-0400
TZNAME:EDT
DTSTART:20220313T070000
END:DAYLIGHT
BEGIN:STANDARD
TZOFFSETFROM:-0400
TZOFFSETTO:-0500
TZNAME:EST
DTSTART:20221106T060000
END:STANDARD
BEGIN:DAYLIGHT
TZOFFSETFROM:-0500
TZOFFSETTO:-0400
TZNAME:EDT
DTSTART:20230312T070000
END:DAYLIGHT
BEGIN:STANDARD
TZOFFSETFROM:-0400
TZOFFSETTO:-0500
TZNAME:EST
DTSTART:20231105T060000
END:STANDARD
BEGIN:DAYLIGHT
TZOFFSETFROM:-0500
TZOFFSETTO:-0400
TZNAME:EDT
DTSTART:20240310T070000
END:DAYLIGHT
BEGIN:STANDARD
TZOFFSETFROM:-0400
TZOFFSETTO:-0500
TZNAME:EST
DTSTART:20241103T060000
END:STANDARD
END:VTIMEZONE
BEGIN:VEVENT
DTSTART;TZID=America/Toronto:20230329T113500
DTEND;TZID=America/Toronto:20230329T122500
DTSTAMP:20260423T134446
CREATED:20220906T150929Z
LAST-MODIFIED:20230104T194012Z
UID:10000057-1680089700-1680092700@roslynhands.ca
SUMMARY:Kid fitness - Gr 1-2 - WINTER
DESCRIPTION:The register button will only work after 7:00am Tues.\, Oct. 4th. \n\n\n\n\n\n\n\n\nREGISTER\n\n\n\n\n\n\n\nWENESDAYS – LUNCH – WINTER\n\n\n\nTelevision\, computers\, and video games have replaced many of the physical activities children once enjoyed and fitness seems to have taken a backseat. This course is designed to bring back the FUN in FITNESS! The emphasis is on having fun and feeling good while getting a great workout. This program challenges children to be active and develop fundamental skills such as balance\, coordination\, agility\, strength\, and cardiovascular conditioning. Regular exercise can help alleviate problems due to hyperactivity\, low concentration\, obesity\, asthma & other allergies\, anger & self control issues\, shyness & self-esteem to name just a few! Warning: Certain games may cause happiness and result in giggles\, laughter\, and self-love! \n\n\n\n20 students \n\n\n\n\n\n\n\nInstructor: Stéphanie Nairn\n\n\n\n\n\n\n\nWant to register for the FALL session also/instead? Click here
URL:https://roslynhands.ca/event/kid-fitness-gr-1-2-winter/2023-03-29/
LOCATION:Mini Gym
CATEGORIES:Extracurricular Activities,Grade 1,Grade 2,Grade 3,Lunch,Winter
ATTACH;FMTTYPE=image/png:https://roslynhands.ca/wp-content/uploads/sites/9/2021/06/Kidfit.png
END:VEVENT
BEGIN:VEVENT
DTSTART;TZID=America/Toronto:20230329T113500
DTEND;TZID=America/Toronto:20230329T122500
DTSTAMP:20260423T134446
CREATED:20220906T152344Z
LAST-MODIFIED:20230305T024025Z
UID:10000085-1680089700-1680092700@roslynhands.ca
SUMMARY:Kid fitness - Gr Pre-K and K Only - WINTER
DESCRIPTION:WEDNESDAYS – LUNCH – WINTER\n\n\n\nTelevision\, computers\, and video games have replaced many of the physical activities children once enjoyed and fitness seems to have taken a backseat. This course is designed to bring back the FUN in FITNESS! The emphasis is on having fun and feeling good while getting a great workout. This program challenges children to be active and develop fundamental skills such as balance\, coordination\, agility\, strength\, and cardiovascular conditioning. Regular exercise can help alleviate problems due to hyperactivity\, low concentration\, obesity\, asthma & other allergies\, anger & self control issues\, shyness & self-esteem to name just a few! Warning: Certain games may cause happiness and result in giggles\, laughter\, and self-love! \n\n\n\n20 students \n\n\n\n\n\n\n\nInstructor: Stéphanie Nairn\n\n\n\n\n\n\n\nWant to register for the FALL session also/instead? Click here
URL:https://roslynhands.ca/event/kid-fitness-gr-k-only-winter/2023-03-29/
LOCATION:Mini Gym
CATEGORIES:Extracurricular Activities,Kindergarten,Lunch,Winter
ATTACH;FMTTYPE=image/png:https://roslynhands.ca/wp-content/uploads/sites/9/2021/06/Kidfit.png
END:VEVENT
BEGIN:VEVENT
DTSTART;TZID=America/Toronto:20230329T113500
DTEND;TZID=America/Toronto:20230329T122500
DTSTAMP:20260423T134446
CREATED:20220906T160736Z
LAST-MODIFIED:20230901T200639Z
UID:10000132-1680089700-1680092700@roslynhands.ca
SUMMARY:Kid Science - Gr 1-2 - WINTER
DESCRIPTION:The register button will only work after 7:00am Tues.\, Oct. 4th. \n\n\n\n\n\n\n\n\nREGISTER\n\n\n\n\n\n\n\nWEDNESDAYS – LUNCH – WINTER\n\n\n\nYoung Scientist of all ages will be fascinated by the world around them. Kids will enjoy exploring the world of science through fun and tactile activities. How and why popcorn pops\, erupting volcanos and more. \n\n\n\n20 students \n\n\n\n\n\n\n\nInstructor: Enfant & Co.
URL:https://roslynhands.ca/event/kid-science-gr-1-2-winter/2023-03-29/
LOCATION:Room – 001
CATEGORIES:Extracurricular Activities,Grade 1,Grade 2,Grade 3,Lunch,Winter
ATTACH;FMTTYPE=image/png:https://roslynhands.ca/wp-content/uploads/sites/9/2021/06/Kid-Science.png
END:VEVENT
BEGIN:VEVENT
DTSTART;TZID=America/Toronto:20230329T123500
DTEND;TZID=America/Toronto:20230329T132500
DTSTAMP:20260423T134446
CREATED:20220906T181046Z
LAST-MODIFIED:20230112T053024Z
UID:10000703-1680093300-1680096300@roslynhands.ca
SUMMARY:Modern Dance - Gr 3-6 - WINTER
DESCRIPTION:The register button will only work after 7:00am Tues.\, Oct. 4th. \n\n\n\n\n\n\n\n\nREGISTER\n\n\n\n\n\n\n\nWEDNESDAYS – LUNCH – WINTER\n\n\n\nA great class that offers a mix of modern\, Hip Hop and other dance styles that kids love. The emphasis is on fun and creative expression. A small performance will be given in celebration of the group’s work at the end of the session. \n\n\n\n20 students \n\n\n\n\n\n\n\nInstructor: Dale King
URL:https://roslynhands.ca/event/modern-dance-gr-3-6-winter/2023-03-29/
LOCATION:Room – 001
CATEGORIES:Extracurricular Activities,Grade 4,Grade 5,Grade 6,Lunch,Winter
ATTACH;FMTTYPE=image/jpeg:https://roslynhands.ca/wp-content/uploads/sites/9/2021/06/Modern-Dance..jpg
END:VEVENT
END:VCALENDAR