BEGIN:VCALENDAR
VERSION:2.0
PRODID:-//Roslyn Home and School - ECPv6.15.20//NONSGML v1.0//EN
CALSCALE:GREGORIAN
METHOD:PUBLISH
X-WR-CALNAME:Roslyn Home and School
X-ORIGINAL-URL:https://roslynhands.ca
X-WR-CALDESC:Events for Roslyn Home and School
REFRESH-INTERVAL;VALUE=DURATION:PT1H
X-Robots-Tag:noindex
X-PUBLISHED-TTL:PT1H
BEGIN:VTIMEZONE
TZID:America/Toronto
BEGIN:DAYLIGHT
TZOFFSETFROM:-0500
TZOFFSETTO:-0400
TZNAME:EDT
DTSTART:20220313T070000
END:DAYLIGHT
BEGIN:STANDARD
TZOFFSETFROM:-0400
TZOFFSETTO:-0500
TZNAME:EST
DTSTART:20221106T060000
END:STANDARD
BEGIN:DAYLIGHT
TZOFFSETFROM:-0500
TZOFFSETTO:-0400
TZNAME:EDT
DTSTART:20230312T070000
END:DAYLIGHT
BEGIN:STANDARD
TZOFFSETFROM:-0400
TZOFFSETTO:-0500
TZNAME:EST
DTSTART:20231105T060000
END:STANDARD
BEGIN:DAYLIGHT
TZOFFSETFROM:-0500
TZOFFSETTO:-0400
TZNAME:EDT
DTSTART:20240310T070000
END:DAYLIGHT
BEGIN:STANDARD
TZOFFSETFROM:-0400
TZOFFSETTO:-0500
TZNAME:EST
DTSTART:20241103T060000
END:STANDARD
END:VTIMEZONE
BEGIN:VEVENT
DTSTART;TZID=America/Toronto:20230330T113500
DTEND;TZID=America/Toronto:20230330T122500
DTSTAMP:20260423T102625
CREATED:20220906T142809Z
LAST-MODIFIED:20230305T023930Z
UID:10000636-1680176100-1680179100@roslynhands.ca
SUMMARY:Robotics - Gr K-ONLY - WINTER
DESCRIPTION:THURSDAYS – LUNCH – WINTER\n\n\n\nSpecially designed for young engineers\, this course will provide children with the exciting opportunity to learn about the world of robots! They will explore the fundamentals of robotics (basic laws of physics\, principles of motion\, electronics and more!) and will work together to create and program robots using the LEGO Education with provided kits. \n\n\n\n20 students \n\n\n\n\n\n\n\nInstructor: Enfant & Co.\n\n\n\n\n\n\n\nWant to register for the FALL session also/instead? Click here
URL:https://roslynhands.ca/event/robotics-gr-k-only-winter-2/2023-03-30/
LOCATION:Room – 001
CATEGORIES:Extracurricular Activities,Kindergarten,Lunch,Winter
ATTACH;FMTTYPE=image/jpeg:https://roslynhands.ca/wp-content/uploads/sites/9/2022/02/Robotics.jpg
END:VEVENT
BEGIN:VEVENT
DTSTART;TZID=America/Toronto:20230330T113500
DTEND;TZID=America/Toronto:20230330T122500
DTSTAMP:20260423T102625
CREATED:20220906T162558Z
LAST-MODIFIED:20230112T054626Z
UID:10000644-1680176100-1680179100@roslynhands.ca
SUMMARY:Reptiles - Animal Kingdom - Gr 1-2 - WINTER
DESCRIPTION:The register button will only work after 7:00am Tues.\, Oct. 4th. \n\n\n\n\n\n\n\n\nREGISTER\n\n\n\n\n\n\n\nTHURSDAYS – LUNCH – WINTER\n\n\n\nIn this program we invade the classroom with a variety of small mammals\, reptiles\, amphibians\, arachnids and insects. As in our other programs\, our main goal is for the kids to have fun while they learn about some of the animals\, we share our planet with. It is very hands on and interactive. We play games\, have fun quizzes and team games. We also give out prizes to all the kids throughout the program. The kids get to choose one of their favourite Reptizoo animals to have their photo taken with. On the last day we hand out their photos and a piece of reptile skin as a souvenir. We show different animals in this program from our Reptizoo’s Reptiles Around the World program. \n\n\n\n20 students \n\n\n\n\n\n\n\nInstructor: Pat Benatar (Reptizoo)
URL:https://roslynhands.ca/event/reptiles-animal-kingdom-gr-1-2-winter/2023-03-30/
LOCATION:Apt. Back Room
CATEGORIES:Extracurricular Activities,Grade 1,Grade 2,Grade 3,Lunch,Winter
ATTACH;FMTTYPE=image/jpeg:https://roslynhands.ca/wp-content/uploads/sites/9/2021/06/Reptiles.jpg
END:VEVENT
END:VCALENDAR