BEGIN:VCALENDAR
VERSION:2.0
PRODID:-//Roslyn Home and School - ECPv6.15.20//NONSGML v1.0//EN
CALSCALE:GREGORIAN
METHOD:PUBLISH
X-WR-CALNAME:Roslyn Home and School
X-ORIGINAL-URL:https://roslynhands.ca
X-WR-CALDESC:Events for Roslyn Home and School
REFRESH-INTERVAL;VALUE=DURATION:PT1H
X-Robots-Tag:noindex
X-PUBLISHED-TTL:PT1H
BEGIN:VTIMEZONE
TZID:America/Toronto
BEGIN:DAYLIGHT
TZOFFSETFROM:-0500
TZOFFSETTO:-0400
TZNAME:EDT
DTSTART:20220313T070000
END:DAYLIGHT
BEGIN:STANDARD
TZOFFSETFROM:-0400
TZOFFSETTO:-0500
TZNAME:EST
DTSTART:20221106T060000
END:STANDARD
BEGIN:DAYLIGHT
TZOFFSETFROM:-0500
TZOFFSETTO:-0400
TZNAME:EDT
DTSTART:20230312T070000
END:DAYLIGHT
BEGIN:STANDARD
TZOFFSETFROM:-0400
TZOFFSETTO:-0500
TZNAME:EST
DTSTART:20231105T060000
END:STANDARD
BEGIN:DAYLIGHT
TZOFFSETFROM:-0500
TZOFFSETTO:-0400
TZNAME:EDT
DTSTART:20240310T070000
END:DAYLIGHT
BEGIN:STANDARD
TZOFFSETFROM:-0400
TZOFFSETTO:-0500
TZNAME:EST
DTSTART:20241103T060000
END:STANDARD
END:VTIMEZONE
BEGIN:VEVENT
DTSTART;TZID=America/Toronto:20230421T123500
DTEND;TZID=America/Toronto:20230421T132500
DTSTAMP:20260423T102608
CREATED:20220906T144705Z
LAST-MODIFIED:20230112T055448Z
UID:10000179-1682080500-1682083500@roslynhands.ca
SUMMARY:NEW! Choir - Gr 3-6 - WINTER
DESCRIPTION:We are extremely excited to announce the return of the ROSLYN CHOIR.\n\n\n\nOur Choir/Broadway program restarts this year under the direction of opera singers and musical directors Maria Diamantis & Dimitris Ilias. \n\n\n\n\n\n\n\n\n\n\n\n\n\nFRIDAYS – LUNCH – WINTER\n\n\n\nThis year our school choir will be participating in the annual ACTION CONCERT with a presentation of a short version ofFROZEN! \n\n\n\nThe children will not only be learning the biggest hits of themusical but also dancing specific choreography\, doing somepantomime and performing in the ACTION concert in fullcostume\, makeup and sets. \n\n\n\nTHIS YEAR-NO AUDITIONS! All students whowish to participate may register! \n\n\n\n40 students \n\n\n\n\n\n\n\nInstructor: Maria Diamantis & Dimitris Ilias
URL:https://roslynhands.ca/event/choir-gr-3-6-winter/2023-04-21/
LOCATION:Mini Gym
CATEGORIES:Extracurricular Activities,Grade 3,Grade 4,Grade 5,Grade 6,Lunch,Winter
ATTACH;FMTTYPE=image/jpeg:https://roslynhands.ca/wp-content/uploads/sites/9/2021/06/Choir.jpg
END:VEVENT
END:VCALENDAR