BEGIN:VCALENDAR
VERSION:2.0
PRODID:-//Roslyn Home and School - ECPv6.15.20//NONSGML v1.0//EN
CALSCALE:GREGORIAN
METHOD:PUBLISH
X-ORIGINAL-URL:https://roslynhands.ca
X-WR-CALDESC:Events for Roslyn Home and School
REFRESH-INTERVAL;VALUE=DURATION:PT1H
X-Robots-Tag:noindex
X-PUBLISHED-TTL:PT1H
BEGIN:VTIMEZONE
TZID:America/New_York
BEGIN:DAYLIGHT
TZOFFSETFROM:-0500
TZOFFSETTO:-0400
TZNAME:EDT
DTSTART:20210314T070000
END:DAYLIGHT
BEGIN:STANDARD
TZOFFSETFROM:-0400
TZOFFSETTO:-0500
TZNAME:EST
DTSTART:20211107T060000
END:STANDARD
BEGIN:DAYLIGHT
TZOFFSETFROM:-0500
TZOFFSETTO:-0400
TZNAME:EDT
DTSTART:20220313T070000
END:DAYLIGHT
BEGIN:STANDARD
TZOFFSETFROM:-0400
TZOFFSETTO:-0500
TZNAME:EST
DTSTART:20221106T060000
END:STANDARD
BEGIN:DAYLIGHT
TZOFFSETFROM:-0500
TZOFFSETTO:-0400
TZNAME:EDT
DTSTART:20230312T070000
END:DAYLIGHT
BEGIN:STANDARD
TZOFFSETFROM:-0400
TZOFFSETTO:-0500
TZNAME:EST
DTSTART:20231105T060000
END:STANDARD
BEGIN:DAYLIGHT
TZOFFSETFROM:-0500
TZOFFSETTO:-0400
TZNAME:EDT
DTSTART:20240310T070000
END:DAYLIGHT
BEGIN:STANDARD
TZOFFSETFROM:-0400
TZOFFSETTO:-0500
TZNAME:EST
DTSTART:20241103T060000
END:STANDARD
END:VTIMEZONE
BEGIN:VTIMEZONE
TZID:America/Toronto
BEGIN:DAYLIGHT
TZOFFSETFROM:-0500
TZOFFSETTO:-0400
TZNAME:EDT
DTSTART:20220313T070000
END:DAYLIGHT
BEGIN:STANDARD
TZOFFSETFROM:-0400
TZOFFSETTO:-0500
TZNAME:EST
DTSTART:20221106T060000
END:STANDARD
BEGIN:DAYLIGHT
TZOFFSETFROM:-0500
TZOFFSETTO:-0400
TZNAME:EDT
DTSTART:20230312T070000
END:DAYLIGHT
BEGIN:STANDARD
TZOFFSETFROM:-0400
TZOFFSETTO:-0500
TZNAME:EST
DTSTART:20231105T060000
END:STANDARD
BEGIN:DAYLIGHT
TZOFFSETFROM:-0500
TZOFFSETTO:-0400
TZNAME:EDT
DTSTART:20240310T070000
END:DAYLIGHT
BEGIN:STANDARD
TZOFFSETFROM:-0400
TZOFFSETTO:-0500
TZNAME:EST
DTSTART:20241103T060000
END:STANDARD
END:VTIMEZONE
BEGIN:VEVENT
DTSTART;TZID=America/New_York:20221226T090000
DTEND;TZID=America/New_York:20230106T154500
DTSTAMP:20260419T191729
CREATED:20220902T202735Z
LAST-MODIFIED:20230823T201709Z
UID:10000316-1672045200-1673019900@roslynhands.ca
SUMMARY:Winter Break - no school
DESCRIPTION:adsfasdf \n\n\n\nadf \n\n\n\nasdf \n\n\n\nasdf \n\n\n\nasdf \n\n\n\nasdf \n\n\n\nasdf \n\n\n\nasdf \n\n\n\nasdf \n\n\n\nasdf \n\n\n\nasdf \n\n\n\nasd \n\n\n\nfasd \n\n\n\nfasd \n\n\n\nfasd \n\n\n\nfasd \n\n\n\nfasd \n\n\n\nfa \n\n\n\nsdf \n\n\n\nasdf \n\n\n\nasdf \n\n\n\nasdf \n\n\n\nasdf \n\n\n\nasd \n\n\n\nfasd \n\n\n\nfas \n\n\n\ndf \n\n\n\nasdf \n\n\n\nasdf \n\n\n\nasdf \n\n\n\nasd \n\n\n\nfas \n\n\n\ndfasd \n\n\n\nf
URL:https://roslynhands.ca/event/winter-break-no-school/2022-12-26/
CATEGORIES:Extracurricular Activities,PED days and Holidays
END:VEVENT
BEGIN:VEVENT
DTSTART;TZID=America/Toronto:20230109T113500
DTEND;TZID=America/Toronto:20230109T132500
DTSTAMP:20260419T191729
CREATED:20220922T204629Z
LAST-MODIFIED:20230201T170823Z
UID:10000292-1673264100-1673270700@roslynhands.ca
SUMMARY:Pizza Lunch
DESCRIPTION:Pizza Lunch is very popular with the kids\, and parents too – there’s no need to pack a lunch!  \n\n\n\nAs always\, you can choose 2 or 4 slices of regular cheese pizza\, or 4 smaller slices of gluten-free pizza\, with juice and a treat. We also offer a dessert option for students with certain dietary restrictions.
URL:https://roslynhands.ca/event/pizza-lunch-3/2023-01-09/
LOCATION:Roslyn School\, 4699 Av. Westmount\, Westmount\, Quebec\, H3Y 1X5\, Canada
CATEGORIES:Pizza Lunch
ATTACH;FMTTYPE=image/jpeg:https://roslynhands.ca/wp-content/uploads/sites/9/2021/08/pizza-slices.jpg
GEO:45.4834961;-73.609869
X-APPLE-STRUCTURED-LOCATION;VALUE=URI;X-ADDRESS=Roslyn School 4699 Av. Westmount Westmount Quebec H3Y 1X5 Canada;X-APPLE-RADIUS=500;X-TITLE=4699 Av. Westmount:geo:-73.609869,45.4834961
END:VEVENT
BEGIN:VEVENT
DTSTART;TZID=America/Toronto:20230120T080000
DTEND;TZID=America/Toronto:20230120T160000
DTSTAMP:20260419T191729
CREATED:20230118T193607Z
LAST-MODIFIED:20230118T194103Z
UID:10001297-1674201600-1674230400@roslynhands.ca
SUMMARY:Free Dress Day Friday
DESCRIPTION:
URL:https://roslynhands.ca/event/free-dress-day-friday/
CATEGORIES:School Activity
ATTACH;FMTTYPE=image/jpeg:https://roslynhands.ca/wp-content/uploads/sites/9/2021/11/ugly-sweater-1.jpg
END:VEVENT
BEGIN:VEVENT
DTSTART;TZID=America/New_York:20230130T090000
DTEND;TZID=America/New_York:20230130T154500
DTSTAMP:20260419T191729
CREATED:20220902T201907Z
LAST-MODIFIED:20230313T222724Z
UID:10000307-1675069200-1675093500@roslynhands.ca
SUMMARY:PED day - no school
DESCRIPTION:
URL:https://roslynhands.ca/event/ped-day-no-school-2/2023-01-30/
CATEGORIES:Extracurricular Activities,Main events,PED days and Holidays
END:VEVENT
BEGIN:VEVENT
DTSTART;TZID=America/Toronto:20230131T113500
DTEND;TZID=America/Toronto:20230131T132500
DTSTAMP:20260419T191729
CREATED:20220922T204629Z
LAST-MODIFIED:20230201T170823Z
UID:10000293-1675164900-1675171500@roslynhands.ca
SUMMARY:Pizza Lunch
DESCRIPTION:Pizza Lunch is very popular with the kids\, and parents too – there’s no need to pack a lunch!  \n\n\n\nAs always\, you can choose 2 or 4 slices of regular cheese pizza\, or 4 smaller slices of gluten-free pizza\, with juice and a treat. We also offer a dessert option for students with certain dietary restrictions.
URL:https://roslynhands.ca/event/pizza-lunch-3/2023-01-31/
LOCATION:Roslyn School\, 4699 Av. Westmount\, Westmount\, Quebec\, H3Y 1X5\, Canada
CATEGORIES:Pizza Lunch
ATTACH;FMTTYPE=image/jpeg:https://roslynhands.ca/wp-content/uploads/sites/9/2021/08/pizza-slices.jpg
GEO:45.4834961;-73.609869
X-APPLE-STRUCTURED-LOCATION;VALUE=URI;X-ADDRESS=Roslyn School 4699 Av. Westmount Westmount Quebec H3Y 1X5 Canada;X-APPLE-RADIUS=500;X-TITLE=4699 Av. Westmount:geo:-73.609869,45.4834961
END:VEVENT
BEGIN:VEVENT
DTSTART;TZID=America/Toronto:20230213T080000
DTEND;TZID=America/Toronto:20230217T170000
DTSTAMP:20260419T191729
CREATED:20230203T170010Z
LAST-MODIFIED:20230203T170013Z
UID:10001302-1676275200-1676653200@roslynhands.ca
SUMMARY:Teacher Appreciation Week
DESCRIPTION:
URL:https://roslynhands.ca/event/teacher-appreciation-week/
CATEGORIES:HandS event,Main events
ATTACH;FMTTYPE=image/jpeg:https://roslynhands.ca/wp-content/uploads/sites/9/2023/01/teacher-appreciation-week-logo.jpeg
END:VEVENT
BEGIN:VEVENT
DTSTART;TZID=America/Toronto:20230213T113500
DTEND;TZID=America/Toronto:20230213T132500
DTSTAMP:20260419T191729
CREATED:20220922T204629Z
LAST-MODIFIED:20230201T170823Z
UID:10000294-1676288100-1676294700@roslynhands.ca
SUMMARY:Pizza Lunch
DESCRIPTION:Pizza Lunch is very popular with the kids\, and parents too – there’s no need to pack a lunch!  \n\n\n\nAs always\, you can choose 2 or 4 slices of regular cheese pizza\, or 4 smaller slices of gluten-free pizza\, with juice and a treat. We also offer a dessert option for students with certain dietary restrictions.
URL:https://roslynhands.ca/event/pizza-lunch-3/2023-02-13/
LOCATION:Roslyn School\, 4699 Av. Westmount\, Westmount\, Quebec\, H3Y 1X5\, Canada
CATEGORIES:Pizza Lunch
ATTACH;FMTTYPE=image/jpeg:https://roslynhands.ca/wp-content/uploads/sites/9/2021/08/pizza-slices.jpg
GEO:45.4834961;-73.609869
X-APPLE-STRUCTURED-LOCATION;VALUE=URI;X-ADDRESS=Roslyn School 4699 Av. Westmount Westmount Quebec H3Y 1X5 Canada;X-APPLE-RADIUS=500;X-TITLE=4699 Av. Westmount:geo:-73.609869,45.4834961
END:VEVENT
BEGIN:VEVENT
DTSTART;TZID=America/Toronto:20230222T080000
DTEND;TZID=America/Toronto:20230222T170000
DTSTAMP:20260419T191729
CREATED:20230203T164928Z
LAST-MODIFIED:20230203T165316Z
UID:10001301-1677052800-1677085200@roslynhands.ca
SUMMARY:Pink Shirt Day
DESCRIPTION:
URL:https://roslynhands.ca/event/pink-shirt-day-2/
CATEGORIES:Main events,School Activity
ATTACH;FMTTYPE=image/jpeg:https://roslynhands.ca/wp-content/uploads/sites/9/2021/08/Pink-Shirt-Day.jpg
END:VEVENT
BEGIN:VEVENT
DTSTART;TZID=America/New_York:20230224T090000
DTEND;TZID=America/New_York:20230224T154500
DTSTAMP:20260419T191729
CREATED:20220902T201907Z
LAST-MODIFIED:20230313T222724Z
UID:10000308-1677229200-1677253500@roslynhands.ca
SUMMARY:PED day - no school
DESCRIPTION:
URL:https://roslynhands.ca/event/ped-day-no-school-2/2023-02-24/
CATEGORIES:Extracurricular Activities,Main events,PED days and Holidays
END:VEVENT
BEGIN:VEVENT
DTSTART;TZID=America/Toronto:20230228T080000
DTEND;TZID=America/Toronto:20230228T170000
DTSTAMP:20260419T191729
CREATED:20230203T170947Z
LAST-MODIFIED:20230203T170949Z
UID:10001303-1677571200-1677603600@roslynhands.ca
SUMMARY:Dress Down Day
DESCRIPTION:Grad Fundraiser – donation encouraged
URL:https://roslynhands.ca/event/dress-down-day/
CATEGORIES:Main events,School Activity
ATTACH;FMTTYPE=image/jpeg:https://roslynhands.ca/wp-content/uploads/sites/9/2021/12/dressdown-dec-17-poster-scaled-e1675444037870.jpg
END:VEVENT
BEGIN:VEVENT
DTSTART;TZID=America/New_York:20230306T090000
DTEND;TZID=America/New_York:20230310T154500
DTSTAMP:20260419T191729
CREATED:20220902T202449Z
LAST-MODIFIED:20230823T201824Z
UID:10000313-1678093200-1678463100@roslynhands.ca
SUMMARY:March Break - no school
DESCRIPTION:
URL:https://roslynhands.ca/event/march-break-no-school/2023-03-06/
CATEGORIES:Extracurricular Activities,PED days and Holidays
END:VEVENT
BEGIN:VEVENT
DTSTART;TZID=America/Toronto:20230313T113500
DTEND;TZID=America/Toronto:20230313T132500
DTSTAMP:20260419T191729
CREATED:20220922T204629Z
LAST-MODIFIED:20230201T170823Z
UID:10000295-1678707300-1678713900@roslynhands.ca
SUMMARY:Pizza Lunch
DESCRIPTION:Pizza Lunch is very popular with the kids\, and parents too – there’s no need to pack a lunch!  \n\n\n\nAs always\, you can choose 2 or 4 slices of regular cheese pizza\, or 4 smaller slices of gluten-free pizza\, with juice and a treat. We also offer a dessert option for students with certain dietary restrictions.
URL:https://roslynhands.ca/event/pizza-lunch-3/2023-03-13/
LOCATION:Roslyn School\, 4699 Av. Westmount\, Westmount\, Quebec\, H3Y 1X5\, Canada
CATEGORIES:Pizza Lunch
ATTACH;FMTTYPE=image/jpeg:https://roslynhands.ca/wp-content/uploads/sites/9/2021/08/pizza-slices.jpg
GEO:45.4834961;-73.609869
X-APPLE-STRUCTURED-LOCATION;VALUE=URI;X-ADDRESS=Roslyn School 4699 Av. Westmount Westmount Quebec H3Y 1X5 Canada;X-APPLE-RADIUS=500;X-TITLE=4699 Av. Westmount:geo:-73.609869,45.4834961
END:VEVENT
BEGIN:VEVENT
DTSTART;TZID=America/Toronto:20230322T193000
DTEND;TZID=America/Toronto:20230322T203000
DTSTAMP:20260419T191729
CREATED:20230118T194742Z
LAST-MODIFIED:20230322T153343Z
UID:10001298-1679513400-1679517000@roslynhands.ca
SUMMARY:HandS Meeting - CANCELLED
DESCRIPTION:
URL:https://roslynhands.ca/event/hands-general-meeting/
CATEGORIES:HandS event
ATTACH;FMTTYPE=image/png:https://roslynhands.ca/wp-content/uploads/sites/9/2021/07/favicon.png
END:VEVENT
BEGIN:VEVENT
DTSTART;TZID=America/New_York:20230324T090000
DTEND;TZID=America/New_York:20230324T154500
DTSTAMP:20260419T191729
CREATED:20220902T201907Z
LAST-MODIFIED:20230313T222724Z
UID:10000309-1679648400-1679672700@roslynhands.ca
SUMMARY:PED day - no school
DESCRIPTION:
URL:https://roslynhands.ca/event/ped-day-no-school-2/2023-03-24/
CATEGORIES:Extracurricular Activities,Main events,PED days and Holidays
END:VEVENT
BEGIN:VEVENT
DTSTART;TZID=America/Toronto:20230327T113500
DTEND;TZID=America/Toronto:20230327T132500
DTSTAMP:20260419T191729
CREATED:20220922T204629Z
LAST-MODIFIED:20230201T170823Z
UID:10000296-1679916900-1679923500@roslynhands.ca
SUMMARY:Pizza Lunch
DESCRIPTION:Pizza Lunch is very popular with the kids\, and parents too – there’s no need to pack a lunch!  \n\n\n\nAs always\, you can choose 2 or 4 slices of regular cheese pizza\, or 4 smaller slices of gluten-free pizza\, with juice and a treat. We also offer a dessert option for students with certain dietary restrictions.
URL:https://roslynhands.ca/event/pizza-lunch-3/2023-03-27/
LOCATION:Roslyn School\, 4699 Av. Westmount\, Westmount\, Quebec\, H3Y 1X5\, Canada
CATEGORIES:Pizza Lunch
ATTACH;FMTTYPE=image/jpeg:https://roslynhands.ca/wp-content/uploads/sites/9/2021/08/pizza-slices.jpg
GEO:45.4834961;-73.609869
X-APPLE-STRUCTURED-LOCATION;VALUE=URI;X-ADDRESS=Roslyn School 4699 Av. Westmount Westmount Quebec H3Y 1X5 Canada;X-APPLE-RADIUS=500;X-TITLE=4699 Av. Westmount:geo:-73.609869,45.4834961
END:VEVENT
BEGIN:VEVENT
DTSTART;TZID=America/New_York:20230407T090000
DTEND;TZID=America/New_York:20230407T154500
DTSTAMP:20260419T191729
CREATED:20220902T201214Z
LAST-MODIFIED:20230823T201915Z
UID:10000380-1680858000-1680882300@roslynhands.ca
SUMMARY:Good Friday holiday - no school
DESCRIPTION:
URL:https://roslynhands.ca/event/good-friday-holiday-no-school/2023-04-07/
CATEGORIES:Extracurricular Activities,PED days and Holidays
END:VEVENT
BEGIN:VEVENT
DTSTART;TZID=America/New_York:20230410T090000
DTEND;TZID=America/New_York:20230410T154500
DTSTAMP:20260419T191729
CREATED:20220902T201115Z
LAST-MODIFIED:20230823T201932Z
UID:10000379-1681117200-1681141500@roslynhands.ca
SUMMARY:Easter Monday holiday - no school
DESCRIPTION:
URL:https://roslynhands.ca/event/easter-monday-holiday-no-school/2023-04-10/
CATEGORIES:Extracurricular Activities,PED days and Holidays
END:VEVENT
BEGIN:VEVENT
DTSTART;TZID=America/Toronto:20230411T113500
DTEND;TZID=America/Toronto:20230411T132500
DTSTAMP:20260419T191729
CREATED:20220922T204629Z
LAST-MODIFIED:20230201T170823Z
UID:10000297-1681212900-1681219500@roslynhands.ca
SUMMARY:Pizza Lunch
DESCRIPTION:Pizza Lunch is very popular with the kids\, and parents too – there’s no need to pack a lunch!  \n\n\n\nAs always\, you can choose 2 or 4 slices of regular cheese pizza\, or 4 smaller slices of gluten-free pizza\, with juice and a treat. We also offer a dessert option for students with certain dietary restrictions.
URL:https://roslynhands.ca/event/pizza-lunch-3/2023-04-11/
LOCATION:Roslyn School\, 4699 Av. Westmount\, Westmount\, Quebec\, H3Y 1X5\, Canada
CATEGORIES:Pizza Lunch
ATTACH;FMTTYPE=image/jpeg:https://roslynhands.ca/wp-content/uploads/sites/9/2021/08/pizza-slices.jpg
GEO:45.4834961;-73.609869
X-APPLE-STRUCTURED-LOCATION;VALUE=URI;X-ADDRESS=Roslyn School 4699 Av. Westmount Westmount Quebec H3Y 1X5 Canada;X-APPLE-RADIUS=500;X-TITLE=4699 Av. Westmount:geo:-73.609869,45.4834961
END:VEVENT
BEGIN:VEVENT
DTSTART;TZID=America/Toronto:20230426T193000
DTEND;TZID=America/Toronto:20230426T203000
DTSTAMP:20260419T191729
CREATED:20230118T195045Z
LAST-MODIFIED:20230118T195050Z
UID:10001299-1682537400-1682541000@roslynhands.ca
SUMMARY:HandS General Meeting
DESCRIPTION:
URL:https://roslynhands.ca/event/hands-general-meeting-2/
CATEGORIES:HandS event
ATTACH;FMTTYPE=image/png:https://roslynhands.ca/wp-content/uploads/sites/9/2021/07/favicon.png
END:VEVENT
BEGIN:VEVENT
DTSTART;TZID=America/New_York:20230501T090000
DTEND;TZID=America/New_York:20230501T154500
DTSTAMP:20260419T191729
CREATED:20220902T201907Z
LAST-MODIFIED:20230313T222724Z
UID:10000310-1682931600-1682955900@roslynhands.ca
SUMMARY:PED day - no school
DESCRIPTION:
URL:https://roslynhands.ca/event/ped-day-no-school-2/2023-05-01/
CATEGORIES:Extracurricular Activities,Main events,PED days and Holidays
END:VEVENT
BEGIN:VEVENT
DTSTART;TZID=America/Toronto:20230502T113500
DTEND;TZID=America/Toronto:20230502T132500
DTSTAMP:20260419T191729
CREATED:20220922T204629Z
LAST-MODIFIED:20230201T170823Z
UID:10000298-1683027300-1683033900@roslynhands.ca
SUMMARY:Pizza Lunch
DESCRIPTION:Pizza Lunch is very popular with the kids\, and parents too – there’s no need to pack a lunch!  \n\n\n\nAs always\, you can choose 2 or 4 slices of regular cheese pizza\, or 4 smaller slices of gluten-free pizza\, with juice and a treat. We also offer a dessert option for students with certain dietary restrictions.
URL:https://roslynhands.ca/event/pizza-lunch-3/2023-05-02/
LOCATION:Roslyn School\, 4699 Av. Westmount\, Westmount\, Quebec\, H3Y 1X5\, Canada
CATEGORIES:Pizza Lunch
ATTACH;FMTTYPE=image/jpeg:https://roslynhands.ca/wp-content/uploads/sites/9/2021/08/pizza-slices.jpg
GEO:45.4834961;-73.609869
X-APPLE-STRUCTURED-LOCATION;VALUE=URI;X-ADDRESS=Roslyn School 4699 Av. Westmount Westmount Quebec H3Y 1X5 Canada;X-APPLE-RADIUS=500;X-TITLE=4699 Av. Westmount:geo:-73.609869,45.4834961
END:VEVENT
BEGIN:VEVENT
DTSTART;TZID=America/New_York:20230522T090000
DTEND;TZID=America/New_York:20230522T154500
DTSTAMP:20260419T191729
CREATED:20220902T201402Z
LAST-MODIFIED:20230823T202037Z
UID:10000389-1684746000-1684770300@roslynhands.ca
SUMMARY:National Patriot's Day holiday - no school
DESCRIPTION:
URL:https://roslynhands.ca/event/national-patriots-day-holiday-no-school/2023-05-22/
CATEGORIES:Extracurricular Activities,PED days and Holidays
END:VEVENT
BEGIN:VEVENT
DTSTART;TZID=America/Toronto:20230523T113500
DTEND;TZID=America/Toronto:20230523T132500
DTSTAMP:20260419T191729
CREATED:20220922T204629Z
LAST-MODIFIED:20230201T170823Z
UID:10000299-1684841700-1684848300@roslynhands.ca
SUMMARY:Pizza Lunch
DESCRIPTION:Pizza Lunch is very popular with the kids\, and parents too – there’s no need to pack a lunch!  \n\n\n\nAs always\, you can choose 2 or 4 slices of regular cheese pizza\, or 4 smaller slices of gluten-free pizza\, with juice and a treat. We also offer a dessert option for students with certain dietary restrictions.
URL:https://roslynhands.ca/event/pizza-lunch-3/2023-05-23/
LOCATION:Roslyn School\, 4699 Av. Westmount\, Westmount\, Quebec\, H3Y 1X5\, Canada
CATEGORIES:Pizza Lunch
ATTACH;FMTTYPE=image/jpeg:https://roslynhands.ca/wp-content/uploads/sites/9/2021/08/pizza-slices.jpg
GEO:45.4834961;-73.609869
X-APPLE-STRUCTURED-LOCATION;VALUE=URI;X-ADDRESS=Roslyn School 4699 Av. Westmount Westmount Quebec H3Y 1X5 Canada;X-APPLE-RADIUS=500;X-TITLE=4699 Av. Westmount:geo:-73.609869,45.4834961
END:VEVENT
BEGIN:VEVENT
DTSTART;TZID=America/Toronto:20230601T160000
DTEND;TZID=America/Toronto:20230601T170000
DTSTAMP:20260419T191729
CREATED:20230508T192330Z
LAST-MODIFIED:20230508T192332Z
UID:10001683-1685635200-1685638800@roslynhands.ca
SUMMARY:Portfolio Night
DESCRIPTION:Visit the school and admire your child’s work!
URL:https://roslynhands.ca/event/portfolio-night-2/
LOCATION:Roslyn School\, 4699 Av. Westmount\, Westmount\, Quebec\, H3Y 1X5\, Canada
CATEGORIES:School Calendar Dates
GEO:45.4834961;-73.609869
X-APPLE-STRUCTURED-LOCATION;VALUE=URI;X-ADDRESS=Roslyn School 4699 Av. Westmount Westmount Quebec H3Y 1X5 Canada;X-APPLE-RADIUS=500;X-TITLE=4699 Av. Westmount:geo:-73.609869,45.4834961
END:VEVENT
BEGIN:VEVENT
DTSTART;TZID=America/Toronto:20230601T170000
DTEND;TZID=America/Toronto:20230601T190000
DTSTAMP:20260419T191729
CREATED:20230527T213736Z
LAST-MODIFIED:20230527T215909Z
UID:10001682-1685638800-1685646000@roslynhands.ca
SUMMARY:End-of-Year Celebration
DESCRIPTION:Come join us for some fun in the schoolyard!
URL:https://roslynhands.ca/event/end-of-year-party/
LOCATION:Roslyn School\, 4699 Av. Westmount\, Westmount\, Quebec\, H3Y 1X5\, Canada
CATEGORIES:HandS event,School Calendar Dates
ATTACH;FMTTYPE=image/png:https://roslynhands.ca/wp-content/uploads/sites/9/2023/05/End-of-Year-Party-Red-Flags.png
GEO:45.4834961;-73.609869
X-APPLE-STRUCTURED-LOCATION;VALUE=URI;X-ADDRESS=Roslyn School 4699 Av. Westmount Westmount Quebec H3Y 1X5 Canada;X-APPLE-RADIUS=500;X-TITLE=4699 Av. Westmount:geo:-73.609869,45.4834961
END:VEVENT
BEGIN:VEVENT
DTSTART;TZID=America/New_York:20230602T090000
DTEND;TZID=America/New_York:20230602T154500
DTSTAMP:20260419T191729
CREATED:20220902T201907Z
LAST-MODIFIED:20230313T222724Z
UID:10000311-1685696400-1685720700@roslynhands.ca
SUMMARY:PED day - no school
DESCRIPTION:
URL:https://roslynhands.ca/event/ped-day-no-school-2/2023-06-02/
CATEGORIES:Extracurricular Activities,Main events,PED days and Holidays
END:VEVENT
BEGIN:VEVENT
DTSTART;TZID=America/Toronto:20230602T090000
DTEND;TZID=America/Toronto:20230602T154500
DTSTAMP:20260419T191729
CREATED:20230528T134204Z
LAST-MODIFIED:20230528T134206Z
UID:10001684-1685696400-1685720700@roslynhands.ca
SUMMARY:CANCELLED - Ped Day
DESCRIPTION:The June 2nd Ped Day has been cancelled due to the school being closed on May 26th (power failure).
URL:https://roslynhands.ca/event/cancelled-ped-day/
CATEGORIES:Main events,PED days and Holidays
END:VEVENT
BEGIN:VEVENT
DTSTART;TZID=America/Toronto:20230608T193000
DTEND;TZID=America/Toronto:20230608T203000
DTSTAMP:20260419T191729
CREATED:20230118T195556Z
LAST-MODIFIED:20230610T121733Z
UID:10001300-1686252600-1686256200@roslynhands.ca
SUMMARY:POSTPONED - HandS Annual General Meeting
DESCRIPTION:
URL:https://roslynhands.ca/event/hands-general-meeting-3/
CATEGORIES:HandS event
ATTACH;FMTTYPE=image/png:https://roslynhands.ca/wp-content/uploads/sites/9/2021/07/favicon.png
END:VEVENT
BEGIN:VEVENT
DTSTART;TZID=America/Toronto:20230614T070000
DTEND;TZID=America/Toronto:20230621T210000
DTSTAMP:20260419T191729
CREATED:20230612T202039Z
LAST-MODIFIED:20230612T202251Z
UID:10001685-1686726000-1687381200@roslynhands.ca
SUMMARY:After School Activities Program REGISTRATION for FALL & WINTER 2023-24 (NEXT YEAR)
DESCRIPTION:Registration for BOTH FALL and WINTER will remain open until Wednesday\, June 21\, or until all after school activities are full – whichever comes first.\n\n\n\nActivities\, details\, schedules and fees may be found by clicking the button below. We encourage you to review and create a ‘short-list’ in priority before registration opens at 7am on Wednesday\, June 14!
URL:https://roslynhands.ca/event/after-school-activities-program-registration-for-fall-winter-2023-24-next-year/
LOCATION:Online at RoslynHandS.ca
CATEGORIES:HandS event
ATTACH;FMTTYPE=image/jpeg:https://roslynhands.ca/wp-content/uploads/sites/9/2022/02/AFTER-SCHOOL.jpg
ORGANIZER;CN="Activities Coordinator":MAILTO:activitiescoordinator@roslynhands.ca
END:VEVENT
BEGIN:VEVENT
DTSTART;TZID=America/Toronto:20230620T193000
DTEND;TZID=America/Toronto:20230620T203000
DTSTAMP:20260419T191729
CREATED:20230610T122129Z
LAST-MODIFIED:20230610T122157Z
UID:10001686-1687289400-1687293000@roslynhands.ca
SUMMARY:HandS Annual General Meeting
DESCRIPTION:It’s time to elect your HandS Executive for 2023-24! \n\n\n\nWe will also recap all the HandS activities of the past school year\, and give our outlook for the upcoming school year. \n\n\n\nHope to see all our members there! \n\n\n\n** Meeting to be held virtually
URL:https://roslynhands.ca/event/hands-annual-general-meeting-2/
CATEGORIES:HandS event,Main events
ATTACH;FMTTYPE=image/png:https://roslynhands.ca/wp-content/uploads/sites/9/2021/07/favicon.png
END:VEVENT
END:VCALENDAR