BEGIN:VCALENDAR
VERSION:2.0
PRODID:-//Roslyn Home and School - ECPv6.15.20//NONSGML v1.0//EN
CALSCALE:GREGORIAN
METHOD:PUBLISH
X-WR-CALNAME:Roslyn Home and School
X-ORIGINAL-URL:https://roslynhands.ca
X-WR-CALDESC:Events for Roslyn Home and School
REFRESH-INTERVAL;VALUE=DURATION:PT1H
X-Robots-Tag:noindex
X-PUBLISHED-TTL:PT1H
BEGIN:VTIMEZONE
TZID:America/Toronto
BEGIN:DAYLIGHT
TZOFFSETFROM:-0500
TZOFFSETTO:-0400
TZNAME:EDT
DTSTART:20250309T070000
END:DAYLIGHT
BEGIN:STANDARD
TZOFFSETFROM:-0400
TZOFFSETTO:-0500
TZNAME:EST
DTSTART:20251102T060000
END:STANDARD
BEGIN:DAYLIGHT
TZOFFSETFROM:-0500
TZOFFSETTO:-0400
TZNAME:EDT
DTSTART:20260308T070000
END:DAYLIGHT
BEGIN:STANDARD
TZOFFSETFROM:-0400
TZOFFSETTO:-0500
TZNAME:EST
DTSTART:20261101T060000
END:STANDARD
BEGIN:DAYLIGHT
TZOFFSETFROM:-0500
TZOFFSETTO:-0400
TZNAME:EDT
DTSTART:20270314T070000
END:DAYLIGHT
BEGIN:STANDARD
TZOFFSETFROM:-0400
TZOFFSETTO:-0500
TZNAME:EST
DTSTART:20271107T060000
END:STANDARD
END:VTIMEZONE
BEGIN:VEVENT
DTSTART;TZID=America/Toronto:20260423T155500
DTEND;TZID=America/Toronto:20260423T165500
DTSTAMP:20260420T011306
CREATED:20260225T212107Z
LAST-MODIFIED:20260310T194314Z
UID:10008769-1776959700-1776963300@roslynhands.ca
SUMMARY:Mad Science - Gr 2-4 - 2025-26 - Extension
DESCRIPTION:AFTER SCHOOL PICK UP PROTOCOL\n\n\n\n\n\n\n\n\n\nREGISTER\n\n\n\n\n\n\nTHURSDAYS – AFTER SCHOOL\n\n\n\nWe are excited to share that\, due to strong interest and enthusiasm from students\, we are pleased to offer the opportunity to extend the After School Mad Science activity beyond its original end date of February 19th. \n\n\n\nBlock 3 – Topic TBD (10 weeks)\n\n\n\n \n\n\n\n*Minimum 12 students \n\n\n\n*This activity will only run if there are at least 12 registered. \n\n\n\n\n\n\n\nInstructor: Mad Science
URL:https://roslynhands.ca/event/mad-science-gr-2-4-2025-26-extension/2026-04-23/
LOCATION:TBD
CATEGORIES:After-School,Extracurricular Activities,Grade 2,Grade 3,Grade 4,Thursday
ATTACH;FMTTYPE=image/png:https://roslynhands.ca/wp-content/uploads/sites/9/2025/08/madscience-logo.png
END:VEVENT
BEGIN:VEVENT
DTSTART;TZID=America/Toronto:20260430T155500
DTEND;TZID=America/Toronto:20260430T165500
DTSTAMP:20260420T011306
CREATED:20260225T212107Z
LAST-MODIFIED:20260310T194314Z
UID:10008770-1777564500-1777568100@roslynhands.ca
SUMMARY:Mad Science - Gr 2-4 - 2025-26 - Extension
DESCRIPTION:AFTER SCHOOL PICK UP PROTOCOL\n\n\n\n\n\n\n\n\n\nREGISTER\n\n\n\n\n\n\nTHURSDAYS – AFTER SCHOOL\n\n\n\nWe are excited to share that\, due to strong interest and enthusiasm from students\, we are pleased to offer the opportunity to extend the After School Mad Science activity beyond its original end date of February 19th. \n\n\n\nBlock 3 – Topic TBD (10 weeks)\n\n\n\n \n\n\n\n*Minimum 12 students \n\n\n\n*This activity will only run if there are at least 12 registered. \n\n\n\n\n\n\n\nInstructor: Mad Science
URL:https://roslynhands.ca/event/mad-science-gr-2-4-2025-26-extension/2026-04-30/
LOCATION:TBD
CATEGORIES:After-School,Extracurricular Activities,Grade 2,Grade 3,Grade 4,Thursday
ATTACH;FMTTYPE=image/png:https://roslynhands.ca/wp-content/uploads/sites/9/2025/08/madscience-logo.png
END:VEVENT
BEGIN:VEVENT
DTSTART;TZID=America/Toronto:20260507T155500
DTEND;TZID=America/Toronto:20260507T165500
DTSTAMP:20260420T011306
CREATED:20260225T212107Z
LAST-MODIFIED:20260310T194314Z
UID:10008771-1778169300-1778172900@roslynhands.ca
SUMMARY:Mad Science - Gr 2-4 - 2025-26 - Extension
DESCRIPTION:AFTER SCHOOL PICK UP PROTOCOL\n\n\n\n\n\n\n\n\n\nREGISTER\n\n\n\n\n\n\nTHURSDAYS – AFTER SCHOOL\n\n\n\nWe are excited to share that\, due to strong interest and enthusiasm from students\, we are pleased to offer the opportunity to extend the After School Mad Science activity beyond its original end date of February 19th. \n\n\n\nBlock 3 – Topic TBD (10 weeks)\n\n\n\n \n\n\n\n*Minimum 12 students \n\n\n\n*This activity will only run if there are at least 12 registered. \n\n\n\n\n\n\n\nInstructor: Mad Science
URL:https://roslynhands.ca/event/mad-science-gr-2-4-2025-26-extension/2026-05-07/
LOCATION:TBD
CATEGORIES:After-School,Extracurricular Activities,Grade 2,Grade 3,Grade 4,Thursday
ATTACH;FMTTYPE=image/png:https://roslynhands.ca/wp-content/uploads/sites/9/2025/08/madscience-logo.png
END:VEVENT
BEGIN:VEVENT
DTSTART;TZID=America/Toronto:20260514T155500
DTEND;TZID=America/Toronto:20260514T165500
DTSTAMP:20260420T011306
CREATED:20260225T212107Z
LAST-MODIFIED:20260310T194314Z
UID:10008772-1778774100-1778777700@roslynhands.ca
SUMMARY:Mad Science - Gr 2-4 - 2025-26 - Extension
DESCRIPTION:AFTER SCHOOL PICK UP PROTOCOL\n\n\n\n\n\n\n\n\n\nREGISTER\n\n\n\n\n\n\nTHURSDAYS – AFTER SCHOOL\n\n\n\nWe are excited to share that\, due to strong interest and enthusiasm from students\, we are pleased to offer the opportunity to extend the After School Mad Science activity beyond its original end date of February 19th. \n\n\n\nBlock 3 – Topic TBD (10 weeks)\n\n\n\n \n\n\n\n*Minimum 12 students \n\n\n\n*This activity will only run if there are at least 12 registered. \n\n\n\n\n\n\n\nInstructor: Mad Science
URL:https://roslynhands.ca/event/mad-science-gr-2-4-2025-26-extension/2026-05-14/
LOCATION:TBD
CATEGORIES:After-School,Extracurricular Activities,Grade 2,Grade 3,Grade 4,Thursday
ATTACH;FMTTYPE=image/png:https://roslynhands.ca/wp-content/uploads/sites/9/2025/08/madscience-logo.png
END:VEVENT
END:VCALENDAR