BEGIN:VCALENDAR
VERSION:2.0
PRODID:-//Roslyn Home and School - ECPv6.15.20//NONSGML v1.0//EN
CALSCALE:GREGORIAN
METHOD:PUBLISH
X-WR-CALNAME:Roslyn Home and School
X-ORIGINAL-URL:https://roslynhands.ca
X-WR-CALDESC:Events for Roslyn Home and School
REFRESH-INTERVAL;VALUE=DURATION:PT1H
X-Robots-Tag:noindex
X-PUBLISHED-TTL:PT1H
BEGIN:VTIMEZONE
TZID:America/Toronto
BEGIN:DAYLIGHT
TZOFFSETFROM:-0500
TZOFFSETTO:-0400
TZNAME:EDT
DTSTART:20210314T070000
END:DAYLIGHT
BEGIN:STANDARD
TZOFFSETFROM:-0400
TZOFFSETTO:-0500
TZNAME:EST
DTSTART:20211107T060000
END:STANDARD
BEGIN:DAYLIGHT
TZOFFSETFROM:-0500
TZOFFSETTO:-0400
TZNAME:EDT
DTSTART:20220313T070000
END:DAYLIGHT
BEGIN:STANDARD
TZOFFSETFROM:-0400
TZOFFSETTO:-0500
TZNAME:EST
DTSTART:20221106T060000
END:STANDARD
BEGIN:DAYLIGHT
TZOFFSETFROM:-0500
TZOFFSETTO:-0400
TZNAME:EDT
DTSTART:20230312T070000
END:DAYLIGHT
BEGIN:STANDARD
TZOFFSETFROM:-0400
TZOFFSETTO:-0500
TZNAME:EST
DTSTART:20231105T060000
END:STANDARD
END:VTIMEZONE
BEGIN:VEVENT
DTSTART;TZID=America/Toronto:20221006T155000
DTEND;TZID=America/Toronto:20221006T165000
DTSTAMP:20260425T220702
CREATED:20220907T061718Z
LAST-MODIFIED:20230305T004108Z
UID:10001259-1665071400-1665075000@roslynhands.ca
SUMMARY:Basketball - Gr 1-3
DESCRIPTION:AFTER SCHOOL PICK UP PROTOCOL\n\n\n\n\n\n\nTHURSDAYS – AFTER SCHOOL\n\n\n\nOur extremely popular coach\, Dean\, returns to Roslyn to bring us his unmatched talent and enthusiasm. Games\, skills\, and drills will all be part of the fun. \n\n\n\n20 students \n\n\n\n\n\n\n\nInstructor: Dean Smith (Trevor Williams Foundation)\n\n\n\n\n\n\n\nMUST READ: Homework Assistance Program\n\n\n\nWe are pleased to announce the return of the “Homework Assistance Program” offered to children enrolled in the after-school SPORTS activities ONLY (Soccer\, Hockey/Lacrosse\, Martial Arts\, and Basketball) on the day(s) for which they are registered (Mon-Thurs). \n\n\n\nThis will allow you to keep your younger children (grades 1-3) in after school supervision once their activity ends. We however require that ALL children who are enrolled in sports programs be picked up by 6:00.
URL:https://roslynhands.ca/event/basketball-gr-1-3/2022-10-06/
LOCATION:Main Gym
CATEGORIES:20-week session,After-School,Extracurricular Activities,Grade 1,Grade 2,Grade 3
ATTACH;FMTTYPE=image/png:https://roslynhands.ca/wp-content/uploads/sites/9/2021/06/Basketball.png
END:VEVENT
BEGIN:VEVENT
DTSTART;TZID=America/Toronto:20221005T165500
DTEND;TZID=America/Toronto:20221005T175500
DTSTAMP:20260425T220702
CREATED:20220907T060805Z
LAST-MODIFIED:20230305T023618Z
UID:10001198-1664988900-1664992500@roslynhands.ca
SUMMARY:Martial Arts - Gr 4-6
DESCRIPTION:AFTER SCHOOL PICK UP PROTOCOL\n\n\n\n\n\n\nWEDNESDAYS – AFTER SCHOOL\n\n\n\nDojo Studio facilitator\, Sensei Andrew Watson will provide workshops of different types of martial arts such as (karate\, kickboxing\, and self-defence) which will facilitate individual goals in health and wellness. This will be accomplished by increasing knowledge and skills for all those participating using the highest standards and in an environment of learning whilst encouraging respect for each other. \n\n\n\nNote:A Gi is required attire for all participants enrolled in this activity. The cost of the Gi\, belts and certificates are built into the program cost. \n\n\n\n20 students \n\n\n\n\n\n\n\nInstructor: Andrew Watson (Dojo Studio)\n\n\n\n\n\n\n\nMUST READ: Homework Assistance Program\n\n\n\nWe are pleased to announce the return of the “Homework Assistance Program” offered to children enrolled in the after-school SPORTS activities ONLY (Soccer\, Hockey/Lacrosse\, Martial Arts\, and Basketball) on the day(s) for which they are registered (Mon-Thurs). \n\n\n\nThis will allow you to keep your children (grades 4-6) in after school supervision BEFORE their activity begins. We require that ALL children who are enrolled in sports programs be picked up by 6:00.
URL:https://roslynhands.ca/event/martial-arts-gr-4-6-2/2022-10-05/
LOCATION:Main Gym
CATEGORIES:20-week session,After-School,Extracurricular Activities,Grade 4,Grade 5,Grade 6
ATTACH;FMTTYPE=image/jpeg:https://roslynhands.ca/wp-content/uploads/sites/9/2021/06/Martial-Arts.jpg
END:VEVENT
BEGIN:VEVENT
DTSTART;TZID=America/Toronto:20221005T155000
DTEND;TZID=America/Toronto:20221005T165000
DTSTAMP:20260425T220702
CREATED:20220907T061117Z
LAST-MODIFIED:20230305T023543Z
UID:10001218-1664985000-1664988600@roslynhands.ca
SUMMARY:Martial Arts - Gr 1-3
DESCRIPTION:AFTER SCHOOL PICK UP PROTOCOL\n\n\n\n\n\n\nWEDNESDAYS – AFTER SCHOOL\n\n\n\nDojo Studio facilitator\, Sensei Andrew Watson will provide workshops of different types of martial arts such as (karate\, kickboxing\, and self-defence) which will facilitate individual goals in health and wellness. This will be accomplished by increasing knowledge and skills for all those participating using the highest standards and in an environment of learning whilst encouraging respect for each other. \n\n\n\nNote:A Gi is required attire for all participants enrolled in this activity. The cost of the Gi\, belts and certificates are built into the program cost. \n\n\n\n20 students \n\n\n\n\n\n\n\nInstructor: Andrew Watson (Dojo Studio)\n\n\n\n\n\n\n\nMUST READ: Homework Assistance Program\n\n\n\nWe are pleased to announce the return of the “Homework Assistance Program” offered to children enrolled in the after-school SPORTS activities ONLY (Soccer\, Hockey/Lacrosse\, Martial Arts\, and Basketball) on the day(s) for which they are registered (Mon-Thurs). \n\n\n\nThis will allow you to keep your younger children (grades 1-3) in after school supervision once their activity ends. We however require that ALL children who are enrolled in sports programs be picked up by 6:00.
URL:https://roslynhands.ca/event/martial-arts-gr-1-3-2/2022-10-05/
LOCATION:Main Gym
CATEGORIES:20-week session,After-School,Extracurricular Activities,Grade 1,Grade 2,Grade 3
ATTACH;FMTTYPE=image/jpeg:https://roslynhands.ca/wp-content/uploads/sites/9/2021/06/Martial-Arts.jpg
END:VEVENT
BEGIN:VEVENT
DTSTART;TZID=America/Toronto:20221004T165500
DTEND;TZID=America/Toronto:20221004T175500
DTSTAMP:20260425T220702
CREATED:20220907T060151Z
LAST-MODIFIED:20230404T231940Z
UID:10001178-1664902500-1664906100@roslynhands.ca
SUMMARY:Hockey/Lacrosse - Gr 4-6
DESCRIPTION:AFTER SCHOOL PICK UP PROTOCOL\n\n\n\n\n\n\nTUESDAYS – AFTER SCHOOL\n\n\n\nThe class will incorporate both Cosom Hockey which is a fast and exciting indoor form of floor hockey with plastic sticks and plastic puck as well as Lacrosse. Students will participate in skills and drills as well as game play. \n\n\n\nNote: Children will be required wear protective eyewear. \n\n\n\n20 students \n\n\n\n\n\n\n\nInstructor: Mr. M.\n\n\n\n\n\n\n\nMUST READ: Homework Assistance Program\n\n\n\nWe are pleased to announce the return of the “Homework Assistance Program” offered to children enrolled in the after-school SPORTS activities ONLY (Soccer\, Hockey/Lacrosse\, Martial Arts\, and Basketball) on the day(s) for which they are registered (Mon-Thurs). \n\n\n\nThis will allow you to keep your children (grades 4-6) in after school supervision BEFORE their activity begins. We require that ALL children who are enrolled in sports programs be picked up by 6:00.
URL:https://roslynhands.ca/event/hockey-lacrosse-gr-4-6/2022-10-04/
LOCATION:Main Gym
CATEGORIES:20-week session,After-School,Extracurricular Activities,Grade 4,Grade 5,Grade 6
ATTACH;FMTTYPE=image/jpeg:https://roslynhands.ca/wp-content/uploads/sites/9/2022/06/cosomhockey.jpg
END:VEVENT
BEGIN:VEVENT
DTSTART;TZID=America/Toronto:20221004T155000
DTEND;TZID=America/Toronto:20221004T165000
DTSTAMP:20260425T220702
CREATED:20220907T055241Z
LAST-MODIFIED:20230313T010700Z
UID:10001158-1664898600-1664902200@roslynhands.ca
SUMMARY:Hockey/Lacrosse - Gr 1-3
DESCRIPTION:AFTER SCHOOL PICK UP PROTOCOL\n\n\n\n\n\n\nTUESDAYS – AFTER SCHOOL\n\n\n\nThe class will incorporate both Cosom Hockey which is a fast and exciting indoor form of floor hockey with plastic sticks and plastic puck as well as Lacrosse. Students will participate in skills and drills as well as game play. \n\n\n\nNote: Children will be required wear protective eyewear. \n\n\n\n20 students \n\n\n\n\n\n\n\nInstructor: Mr. M.\n\n\n\n\n\n\n\nMUST READ: Homework Assistance Program\n\n\n\nWe are pleased to announce the return of the “Homework Assistance Program” offered to children enrolled in the after-school SPORTS activities ONLY (Soccer\, Hockey/Lacrosse\, Martial Arts\, and Basketball) on the day(s) for which they are registered (Mon-Thurs). \n\n\n\nThis will allow you to keep your younger children (grades 1-3) in after school supervision once their activity ends. We however require that ALL children who are enrolled in sports programs be picked up by 6:00.
URL:https://roslynhands.ca/event/hockey-lacrosse-gr-1-3/2022-10-04/
LOCATION:Main Gym
CATEGORIES:20-week session,After-School,Extracurricular Activities,Grade 1,Grade 2,Grade 3
ATTACH;FMTTYPE=image/jpeg:https://roslynhands.ca/wp-content/uploads/sites/9/2022/06/cosomhockey.jpg
END:VEVENT
END:VCALENDAR